BEGIN:VCALENDAR
VERSION:2.0
PRODID:-//eventon.com NONSGML v1.0//EN
CALSCALE:GREGORIAN
METHOD:PUBLISH
BEGIN:VEVENT
UID:69e75100be22b
DTSTAMP:20260421T102712Z
DTSTART:20220429
DTEND:20220430
LOCATION:Schloss Beuggen Schloss Beuggen Nr. 1[br]79618 Rheinfelden
SUMMARY:Töpfer- und Künstlermarkt 2022 auf Schloss Beuggen (Baden-Württemberg)
DESCRIPTION:Seit 25 Jahren präsentieren sich 120 Töpfer\,  Kunsthandwerke
 r und Künstler im historischen Ambiente von Schloss Beuggen im Drei-Lände
 r-Eck bei Rheinfelden. Ausschließlich professionell arbeitende Kunsthandwe
 rker und Künstler sind zur Teilnahme zugelassen – Handelsware und Hobbyi
 sten werden nicht zugelassen.\nhttps://www.kunsthandwerkermarkt.de/veransta
 ltung/toepfer-und-kuenstlermarkt-2022-auf-schloss-beuggen-baden-wuerttember
 g
URL:https://www.kunsthandwerkermarkt.de/veranstaltung/toepfer-und-kuenstlermarkt-2022-auf-schloss-beuggen-baden-wuerttemberg
END:VEVENT
END:VCALENDAR