BEGIN:VCALENDAR
VERSION:2.0
PRODID:-//eventon.com NONSGML v1.0//EN
CALSCALE:GREGORIAN
METHOD:PUBLISH
BEGIN:VEVENT
UID:69e4d0ff91f44
DTSTAMP:20260419T125631Z
DTSTART:20221123
DTEND:20221124
LOCATION:Museum für Kunst &amp; Gewerbe Hamburg (MK&amp;G) Steintorplatz[br]20099 Hamburg
SUMMARY:MK&G messe 2022 (Hamburg)
DESCRIPTION:Vom 23. bis 27. November 2022 präsentiert die MK&amp;G messe d
 ie neuesten Trends im zeitgenössischen Kunsthandwerk\,  darunter junge und
  renommierte Positionen\,  internationale Strömungen und frische Perspekti
 ven aus vielen gestalterischen Disziplinen wie Keramik\,  Glaskunst\,  Schm
 uck- und Textildesign in hoher gestalterischer und handwerklicher Qualität
 . In der neu etablierten Kategorie „Young Talents“ werden[..]\nhttps://
 www.kunsthandwerkermarkt.de/veranstaltung/mkg-messe-2022-hamburg
URL:https://www.kunsthandwerkermarkt.de/veranstaltung/mkg-messe-2022-hamburg
END:VEVENT
END:VCALENDAR