BEGIN:VCALENDAR
VERSION:2.0
PRODID:-//eventon.com NONSGML v1.0//EN
CALSCALE:GREGORIAN
METHOD:PUBLISH
BEGIN:VEVENT
UID:69e6355ac0bd0
DTSTAMP:20260420T141658Z
DTSTART:20240914
DTEND:20240915
LOCATION:Gut Herbigshagen Sielmann-Weg 1[br]37115 Duderstadt
SUMMARY:Exklusiv & Schön 2024 auf Gut Herbigshagen (Niedersachsen)
DESCRIPTION:Im südlichen Niedersachsen\,  ganz in der Nähe von Duderstadt
 \,  liegt das Gut Herbigshagen\,  Stiftungszentrale und Umweltbildungszentr
 um der Heinz Sielmann Stiftung. Der Schutz der Natur ist vorrangiges Ziel d
 er Stiftung des berühmten Tierfilmers\,  dessen Motto “wir können nur s
 chützen\,  was wir kennen” in dem Natur-Erlebniszentrum hervorragend umg
 esetzt wurde. Die herrlich gelegene[..]\nhttps://www.kunsthandwerkermarkt.d
 e/veranstaltung/exklusiv-schoen-2024-auf-gut-herbigshagen-niedersachsen
URL:https://www.kunsthandwerkermarkt.de/veranstaltung/exklusiv-schoen-2024-auf-gut-herbigshagen-niedersachsen
END:VEVENT
END:VCALENDAR